BEGIN:VCALENDAR
VERSION:2.0
PRODID:-//wp-events-plugin.com//7.2.1//EN
TZID:Europe/Berlin
X-WR-TIMEZONE:Europe/Berlin
BEGIN:VEVENT
UID:474@laubach-online.de
DTSTART:20240127T193000Z
DTEND:20240127T220000Z
DTSTAMP:20231120T090039Z
URL:https://laubach-online.de/events/fahrt-mit-dem-stadttheaterbus-zu-der-
 oper-rigoletto-von-giuseppe-verdi/
SUMMARY:Fahrt mit dem Stadttheaterbus zu der Oper "Rigoletto" von Giuseppe 
 Verdi
DESCRIPTION:Oper von Giuseppe Verdi | in italienischer Sprache mit deutsche
 n Übertiteln\nAm Hof des Herzogs von Mantua herrscht die Idee der freien 
 Liebe und Sexualität: „Nur wer will\, soll treu bleiben“\, lautet das
  Credo des Herzogs. Ausgerechnet sein Hofnarr und Sprecher Rigoletto ist i
 nsgeheim Verfechter einer bürgerlichen Moral\, der alles dafür tut\, sei
 n Privatleben und seine Tochter Gilda von den vermeintlichen Eskapaden der
  höfischen Klasse fernzuhalten. Nachdem sich der Herzog und Gilda kennenl
 ernen\, gerät die Welt Rigolettos mit tödlichen Folgen ins Wanken. Doch 
 gibt es eine korrekte Vorstellung von Liebe und Beziehung? Mit seiner 1851
  uraufgeführten Oper gelang Giuseppe Verdi mit einem ungekannten musikali
 sch-formalen Zusammenhalt und einfühlsamer Personencharakterisierung ein 
 wichtiger Schritt in seinem musikdramatischen Schaffen. Dauer: ca. 2 Stund
 en und 30 Minuten\, inkl. einer Pause nach dem 2. Akt.\nKarten erhalten Si
 e um Kultur- und Tourismusbüro (Tel. 06405-921 372) zu 41 € (2 PG) und 
 zu 45 € (1 PG) inklusive Busfahrt. Abfahrt: 18.10 Uhr Parkplatz Sparkass
 e Laubach-Hungen.
ATTACH;FMTTYPE=image/jpeg:https://laubach-online.de/wp-content/uploads/202
 3/11/Theaterbus.jpg
CATEGORIES:Konzerte
LOCATION:Sparkassen Parkplatz\, August Krieger Straße 19\, Laubach\, 35321
 \, Deutschland
GEO:50.541442;8.986713
X-APPLE-STRUCTURED-LOCATION;VALUE=URI;X-ADDRESS=August Krieger Straße 19\,
  Laubach\, 35321\, Deutschland;X-APPLE-RADIUS=100;X-TITLE=Sparkassen Parkp
 latz:geo:50.541442,8.986713
END:VEVENT
END:VCALENDAR