BEGIN:VCALENDAR
VERSION:2.0
PRODID:-//wp-events-plugin.com//7.2.1//EN
TZID:Europe/Berlin
X-WR-TIMEZONE:Europe/Berlin
BEGIN:VEVENT
UID:475@laubach-online.de
DTSTART:20240216T193000Z
DTEND:20240216T220000Z
DTSTAMP:20231120T090111Z
URL:https://laubach-online.de/events/fahrt-mit-dem-stadttheaterbus-zu-der-
 oper-xerxes-von-georg-friedrich-haendel/
SUMMARY:Fahrt mit dem Stadttheaterbus zu der Oper "XERXES" von Georg Friedr
 ich Händel
DESCRIPTION:Oper von Georg Friedrich Händel | in italienischer Sprache mit
  deutschen Übertiteln\nDass Georg Friedrich Händel für „Xerxes“ auf
  ein über 70 Jahre altes Libretto zurückgriff\, ist mehr als ein histori
 sches Detail\, sondern bestimmend für die Einzigartigkeit dieser Oper: De
 r Text stammt aus einer Tradition\, in der kommerzieller Druck für Kurzwe
 iligkeit sorgte und Opern ein wilder Stilmix aus komischen und ernsten Sze
 nen waren\, während Händels Musik in einer Zeit zu Hause ist\, in der si
 ch die Gesangskunst ins Extreme verfeinert hatte. Und so kombiniert „Xer
 xes“ feinste musikalischer Charakterzeichnung mit venezianischer Komik z
 u einer barocken Sitcom höchster Virtuosität\, in der Verkleidungen\, fe
 hlgeleitete Briefe und Intrigen dafür sorgen\, dass der erratisch handeln
 de König Xerxes wieder zur Vernunft kommt.\nKarten erhalten Sie im Kultur
 - und Tourismusbüro\, Bahnhofstraße 1 (Tel. 06405-921 372) zu 41 € (2 
 PG) und 45 € (1 PG). Abfahrt: 18.10 Uhr am Sparkassen Parkplatz.
ATTACH;FMTTYPE=image/jpeg:https://laubach-online.de/wp-content/uploads/202
 3/11/Theaterbus.jpg
CATEGORIES:Konzerte
LOCATION:Sparkassen Parkplatz\, August Krieger Straße 19\, Laubach\, 35321
 \, Deutschland
GEO:50.541442;8.986713
X-APPLE-STRUCTURED-LOCATION;VALUE=URI;X-ADDRESS=August Krieger Straße 19\,
  Laubach\, 35321\, Deutschland;X-APPLE-RADIUS=100;X-TITLE=Sparkassen Parkp
 latz:geo:50.541442,8.986713
END:VEVENT
END:VCALENDAR