BEGIN:VCALENDAR
VERSION:2.0
PRODID:-//wp-events-plugin.com//7.2.1//EN
TZID:Europe/Berlin
X-WR-TIMEZONE:Europe/Berlin
BEGIN:VEVENT
UID:478@laubach-online.de
DTSTART:20240609T180000Z
DTEND:20240609T203000Z
DTSTAMP:20240503T140127Z
URL:https://laubach-online.de/events/fahrt-mit-dem-stadttheaterbus-zu-der-
 operette-mitislaw-der-moderne-von-franz-lehar-im-kleinen-haus/
SUMMARY:Fahrt mit dem Stadttheaterbus zu der Operette "Mitislaw\, der Moder
 ne" von Franz Lehár im kleinen Haus
DESCRIPTION:MITISLAW\, DER MODERNE\nOperette von Franz Lehár\n1907: Im Er
 öffnungsjahr des Stadttheaters Gießen parodiert der erfolgreiche Operett
 enkomponist Franz Lehár sich selbst: Im Anschluss an jede Vorstellung sei
 nes Erfolgsstücks „Die lustige Witwe“ kann man sich im Kabarett „Di
 e Hölle“ im Keller des Theaters den Einakter „Mitislaw\, der Moderne
 “ ansehen. In der verruchten Atmosphäre der „Hölle“ ist zu erleben
 \, wie der verwöhnte Prinz Mitislaw\, der in Paris nach der neuesten Mode
  ausgebildet wurde\, in sein Heimatland Benzinien zurückkehrt. Benzinien 
 aber ist überhaupt nicht modern\, sondern eine sittenstrenge Militärdikt
 atur. Hört der Spaß moderner Sitten bei der Partnerwahl auf oder fängt 
 er da erst richtig an? Und welche Moderne ist hier überhaupt gemeint?\nKa
 rten erhalten Sie im Kultur- und Tourismus (Tel. 06405-921 372)\, Bahnhofs
 traße 1 zu 26\,50 € im kleinen Haus bei freier Platzwahl. Abfahrt: 16:3
 5 Uhr am Parkplatz der Sparkasse Laubach-Hungen.
ATTACH;FMTTYPE=image/jpeg:https://laubach-online.de/wp-content/uploads/202
 3/11/Theaterbus.jpg
CATEGORIES:Konzerte
LOCATION:Sparkassen Parkplatz\, August Krieger Straße 19\, Laubach\, 35321
 \, Deutschland
GEO:50.541442;8.986713
X-APPLE-STRUCTURED-LOCATION;VALUE=URI;X-ADDRESS=August Krieger Straße 19\,
  Laubach\, 35321\, Deutschland;X-APPLE-RADIUS=100;X-TITLE=Sparkassen Parkp
 latz:geo:50.541442,8.986713
END:VEVENT
END:VCALENDAR