BEGIN:VCALENDAR
VERSION:2.0
PRODID:-//wp-events-plugin.com//7.2.1//EN
TZID:Europe/Berlin
X-WR-TIMEZONE:Europe/Berlin
BEGIN:VEVENT
UID:954@laubach-online.de
DTSTART:20240202T180000Z
DTEND:20240203T234500Z
DTSTAMP:20240112T144655Z
URL:https://laubach-online.de/events/fasching-in-freienseen/
SUMMARY:Fasching in Freienseen
DESCRIPTION:Fr. 02.02 - Fremdensitzung Freienseen\nEinlass ab 18Uhr\, Start
  20:11Uhr 🎉\n\nSa 03.02 - Prunksitzung Freienseen\nEinlass ab 18Uhr\, S
 tart 20:11Uhr 🎊\n\nEinlass an den Sitzungen ab 16 Jahren!\n\nKartenvorv
 erkauf 21.01.24\, 10:00-12:00Uhr in Freienseen
CATEGORIES:Konzerte,Märkte &amp; Feste,Sportveranstaltungen
LOCATION:Heinrich Norwig Halle Freienseen\, Oberseener Weg\, 35321\, Deutsc
 hland
GEO:50.560367;9.048943
X-APPLE-STRUCTURED-LOCATION;VALUE=URI;X-ADDRESS=Oberseener Weg\, 35321\, De
 utschland;X-APPLE-RADIUS=100;X-TITLE=Heinrich Norwig Halle Freienseen:geo:
 50.560367,9.048943
END:VEVENT
END:VCALENDAR