BEGIN:VCALENDAR
VERSION:2.0
PRODID:-//wp-events-plugin.com//7.2.1//EN
TZID:Europe/Berlin
X-WR-TIMEZONE:Europe/Berlin
BEGIN:VEVENT
UID:1107@laubach-online.de
DTSTART:20250125T201100Z
DTEND:20250125T234500Z
DTSTAMP:20250116T093535Z
URL:https://laubach-online.de/events/faschingsparty-in-goki-unter-den-mott
 o-apres-ski/
SUMMARY:Faschingsparty in Goki unter den Motto "Aprés-Ski"
DESCRIPTION:Der Jugendclub Gonterskirchen öffnet die Pforten zur großen A
 prés-Ski-Faschingsparty.\n\nWie schon im letzten Jahr nutzen wieder einig
 e Showtanzgruppen die Gelegenheit\,\nihre neuen Tänze zu präsentieren.\n
 \nMit dabei sind die Gruppen aus Münster\, Wetterfeld\, Laubach und Ulfa.
 \n\nMit der passenden Musik sorgt das Team von Malinho Music für Hütten-
 Feeling und Partystimmung.\n\nDer Eintritt beträgt 5 €.
ATTACH;FMTTYPE=image/jpeg:https://laubach-online.de/wp-content/uploads/202
 5/01/Faschingsparty-Goki-2025-.jpg
CATEGORIES:Märkte &amp; Feste
LOCATION:Dorfgemeinschaftshaus Gonterskirchen\, Mittelgasse\, 35321 Laubach
 \, Deutschland
GEO:50.515545;9.023603
X-APPLE-STRUCTURED-LOCATION;VALUE=URI;X-ADDRESS=Mittelgasse\, 35321 Laubach
 \, Deutschland;X-APPLE-RADIUS=100;X-TITLE=Dorfgemeinschaftshaus Gonterskir
 chen:geo:50.515545,9.023603
END:VEVENT
END:VCALENDAR