BEGIN:VCALENDAR
VERSION:2.0
PRODID:-//wp-events-plugin.com//7.2.1//EN
TZID:Europe/Berlin
X-WR-TIMEZONE:Europe/Berlin
BEGIN:VEVENT
UID:984@laubach-online.de
DTSTART:20240623T100000Z
DTEND:20240623T150000Z
DTSTAMP:20240405T105340Z
URL:https://laubach-online.de/events/festgottesdienst-mit-anschliessendem-
 fruehschoppen/
SUMMARY:Festgottesdienst mit anschließendem Frühschoppen
DESCRIPTION:
ATTACH;FMTTYPE=image/jpeg:https://laubach-online.de/wp-content/uploads/202
 4/04/17E015D2-AA02-4330-BE0F-F7800A1A0745-1.jpeg
CATEGORIES:Konzerte,Märkte &amp; Feste
END:VEVENT
END:VCALENDAR