BEGIN:VCALENDAR
VERSION:2.0
PRODID:-//wp-events-plugin.com//7.2.1//EN
TZID:Europe/Berlin
X-WR-TIMEZONE:Europe/Berlin
BEGIN:VEVENT
UID:983@laubach-online.de
DTSTART:20240622T160000Z
DTEND:20240622T234500Z
DTSTAMP:20240405T105807Z
URL:https://laubach-online.de/events/festumzug-mit-anschliessender-blaulic
 htparty-mit-gaudi-power/
SUMMARY:Festumzug mit anschließender Blaulichtparty mit Gaudi Power
DESCRIPTION:
ATTACH;FMTTYPE=image/jpeg:https://laubach-online.de/wp-content/uploads/202
 4/04/17E015D2-AA02-4330-BE0F-F7800A1A0745.jpeg
LOCATION:Dorfgemeinschaftshaus Wetterfeld\, Ruppertsburger Str. 3\, Wetterf
 eld\, 35321\, Deutschland
GEO:50.547523;8.955822
X-APPLE-STRUCTURED-LOCATION;VALUE=URI;X-ADDRESS=Ruppertsburger Str. 3\, Wet
 terfeld\, 35321\, Deutschland;X-APPLE-RADIUS=100;X-TITLE=Dorfgemeinschafts
 haus Wetterfeld:geo:50.547523,8.955822
END:VEVENT
END:VCALENDAR