BEGIN:VCALENDAR
VERSION:2.0
PRODID:-//wp-events-plugin.com//7.2.1//EN
TZID:Europe/Berlin
X-WR-TIMEZONE:Europe/Berlin
BEGIN:VEVENT
UID:1453@laubach-online.de
DTSTART:20251122T193000Z
DTEND:20251122T213000Z
DTSTAMP:20251027T132637Z
URL:https://laubach-online.de/events/filmpremiere-30-blues-schmus-apfelmus
 /
SUMMARY:Filmpremiere "30. Blues\, Schmus & Apfelmus
DESCRIPTION:es lädt eine der\nFilm und Foto Club Laubach e.V.\nin die Stad
 tkirche Laubach
ATTACH;FMTTYPE=image/jpeg:https://laubach-online.de/wp-content/uploads/202
 5/10/BSA-Einladung-02.jpg
LOCATION:Stadtkirche Laubach\, Kirchplatz\, Laubach\, Deutschland
GEO:50.542791;8.990438
X-APPLE-STRUCTURED-LOCATION;VALUE=URI;X-ADDRESS=Kirchplatz\, Laubach\, Deut
 schland;X-APPLE-RADIUS=100;X-TITLE=Stadtkirche Laubach:geo:50.542791,8.990
 438
END:VEVENT
END:VCALENDAR