BEGIN:VCALENDAR
VERSION:2.0
PRODID:-//wp-events-plugin.com//7.2.1//EN
TZID:Europe/Berlin
X-WR-TIMEZONE:Europe/Berlin
BEGIN:VEVENT
UID:1025@laubach-online.de
DTSTART:20240526T120000Z
DTEND:20240526T180000Z
DTSTAMP:20240524T114059Z
URL:https://laubach-online.de/events/flohmarkt-rund-ums-rad/
SUMMARY:Flohmarkt rund um´s Rad
DESCRIPTION:Fahrradflohmarkt ob groß ob klein\, Laufrad\, Dreirad\, Tretro
 ller oder Bobbycar.\n\nAnmeldung unter\n\nv.linke@laubach-online.de
ATTACH;FMTTYPE=image/jpeg:https://laubach-online.de/wp-content/uploads/202
 4/05/Flyer-Flohmarkt-rund-ums-rad.png
CATEGORIES:Märkte &amp; Feste
LOCATION:Alter Bahnhof\, Bahnhofstraße 33\, 35321 Laubach\, Deutschland
GEO:50.541713;8.984776
X-APPLE-STRUCTURED-LOCATION;VALUE=URI;X-ADDRESS=Bahnhofstraße 33\, 35321 L
 aubach\, Deutschland;X-APPLE-RADIUS=100;X-TITLE=Alter Bahnhof:geo:50.54171
 3,8.984776
END:VEVENT
END:VCALENDAR