BEGIN:VCALENDAR
VERSION:2.0
PRODID:-//wp-events-plugin.com//7.2.1//EN
TZID:Europe/Berlin
X-WR-TIMEZONE:Europe/Berlin
BEGIN:VEVENT
UID:1095@laubach-online.de
DTSTART:20250116T170000Z
DTEND:20250116T210000Z
DTSTAMP:20241212T135807Z
URL:https://laubach-online.de/events/fortbildung-%c2%a78a-schutzauftrag-ki
 ndeswohl-teil-1/
SUMMARY:Fortbildung: §8a Schutzauftrag Kindeswohl - Teil 1
DESCRIPTION:Fortbildung für Vereinsmitglieder in der Kinder- und Jugendarb
 eit: §8a Schutzauftrag Kindeswohl - Teil 1\n\nDie zweitägige Fachveranst
 altung zum Thema §8a Schutzauftrag Kindeswohl hebt den wichtigen Auftrag 
 des Paragrafen im achten Sozialgesetzbuch zur Kinder- und Jugendhilfe herv
 or.\nDie Fortbildung schafft mehr Sicherheit und Handlungskompetenzen im U
 mgang mit Kindeswohlgefährdung in der Arbeit mit Kindern und Jugendlichen
 .\nWer mit jungen Menschen arbeitet\, übernimmt einen Schutzauftrag. Vere
 ine in der Kinder- und Jugendarbeit dürfen bei Grenzüberschreitungen\, V
 ernachlässigung und Gewalt nicht wegschauen. Wildwasser Gießen ist eine 
 Beratungsstelle gegen sexuellen Missbrauch an Kindern und Jugendlichen. Si
 e helfen betroffenen Menschen sowie ihren Familien und beraten und begleit
 en sie bei erfahrener Gewalt. Darüber hinaus informieren sie pädagogisch
 e Fachkräfte und ehrenamtliche Personen in der Kinder- und Jugendarbeit. 
 Themen und Schwerpunkte der Fortbildung sind die gesetzlichen Grundlagen z
 um Schutzauftrag. Welche Arten des Missbrauchs gibt es und wie erkenne ich
  Gefährdungssignale? Es werden Interventionspläne speziell für Vereine 
 und das Dokumentationsverfahren bei einer Risikoeinschätzung besprochen. 
 Für eine bessere Darstellung des Themas werden Beispiele und Fallanalyen 
 besprochen. Teilnehmende bekommen darüber hinaus einen Überblick über v
 erschiedene Beratungsstellen und Institutionen\, an die sie sich wenden k
 önnen.\n\nPlätze begrenzt. Anmeldung erforderlich unter soziales@laubach
 -online.de
ATTACH;FMTTYPE=image/jpeg:https://laubach-online.de/wp-content/uploads/202
 4/12/Fobi-Schutzauftrag.jpg
LOCATION:Alter Bahnhof\, Bahnhofstraße 33\, 35321 Laubach\, Deutschland
GEO:50.541713;8.984776
X-APPLE-STRUCTURED-LOCATION;VALUE=URI;X-ADDRESS=Bahnhofstraße 33\, 35321 L
 aubach\, Deutschland;X-APPLE-RADIUS=100;X-TITLE=Alter Bahnhof:geo:50.54171
 3,8.984776
END:VEVENT
END:VCALENDAR