BEGIN:VCALENDAR
VERSION:2.0
PRODID:-//wp-events-plugin.com//7.2.1//EN
TZID:Europe/Berlin
X-WR-TIMEZONE:Europe/Berlin
BEGIN:VEVENT
UID:1096@laubach-online.de
DTSTART:20250206T170000Z
DTEND:20250206T210000Z
DTSTAMP:20241212T135558Z
URL:https://laubach-online.de/events/fortbildung-%c2%a78a-schutzauftrag-ki
 ndeswohl-teil-2/
SUMMARY:Fortbildung: §8a Schutzauftrag Kindeswohl - Teil 2
DESCRIPTION:Fortbildung für Vereinsmitglieder in der Kinder- und Jugendarb
 eit: §8a Schutzauftrag Kindeswohl - Teil 2\n\nDie zweitägige Fachveranst
 altung zum Thema §8a Schutzauftrag Kindeswohl hebt den wichtigen Auftrag 
 des Paragrafen im achten Sozialgesetzbuch zur Kinder- und Jugendhilfe herv
 or. Die Fortbildung schafft mehr Sicherheit und Handlungskompetenzen im Um
 gang mit Kindeswohlgefährdung in der Arbeit mit Kindern und Jugendlichen.
  Wer mit jungen Menschen arbeitet\, übernimmt einen Schutzauftrag. Verein
 e in der Kinder- und Jugendarbeit dürfen bei Grenzüberschreitungen\, Ver
 nachlässigung und Gewalt nicht wegschauen. Wildwasser Gießen ist eine Be
 ratungsstelle gegen sexuellen Missbrauch an Kindern und Jugendlichen. Sie 
 helfen betroffenen Menschen sowie ihren Familien und beraten und begleiten
  sie bei erfahrener Gewalt. Darüber hinaus informieren sie pädagogische 
 Fachkräfte und ehrenamtliche Personen in der Kinder- und Jugendarbeit. Th
 emen und Schwerpunkte der Fortbildung sind die gesetzlichen Grundlagen zum
  Schutzauftrag. Welche Arten des Missbrauchs gibt es und wie erkenne ich G
 efährdungssignale? Es werden Interventionspläne speziell für Vereine un
 d das Dokumentationsverfahren bei einer Risikoeinschätzung besprochen. F
 ür eine bessere Darstellung des Themas werden Beispiele und Fallanalyen b
 esprochen. Teilnehmende bekommen darüber hinaus einen Überblick über ve
 rschiedene Beratungsstellen und Institutionen\, an die sie sich wenden kö
 nnen.\n\nPlätze begrenzt. Anmeldung erforderlich unter soziales@laubach-o
 nline.de
ATTACH;FMTTYPE=image/jpeg:https://laubach-online.de/wp-content/uploads/202
 4/12/Fobi-Schutzauftrag-1.jpg
LOCATION:Alter Bahnhof\, Bahnhofstraße 33\, 35321 Laubach\, Deutschland
GEO:50.541713;8.984776
X-APPLE-STRUCTURED-LOCATION;VALUE=URI;X-ADDRESS=Bahnhofstraße 33\, 35321 L
 aubach\, Deutschland;X-APPLE-RADIUS=100;X-TITLE=Alter Bahnhof:geo:50.54171
 3,8.984776
END:VEVENT
END:VCALENDAR