BEGIN:VCALENDAR
VERSION:2.0
PRODID:-//wp-events-plugin.com//7.2.1//EN
TZID:Europe/Berlin
X-WR-TIMEZONE:Europe/Berlin
BEGIN:VEVENT
UID:1097@laubach-online.de
DTSTART:20250128T170000Z
DTEND:20250128T210000Z
DTSTAMP:20241212T135648Z
URL:https://laubach-online.de/events/fortbildung-rechtliche-grundlagen-fue
 r-die-kinder-und-jugendarbeit-in-vereinen/
SUMMARY:Fortbildung: rechtliche Grundlagen für die Kinder- und Jugendarbei
 t in Vereinen
DESCRIPTION:Fortbildung für Vereinsmitglieder in der Kinder und Jugendarbe
 it: Rechtliche Grundlagen\n\nDas Kinder- und Jugendbüro Laubach ist eine 
 verweisende Beratungsstelle. Kinder\, Jugendliche und Familien treffen hie
 r eine Erstberatung an und werden an Beratungsstellen und Hilfeangeboten w
 eitervermittelt. Auch Vereinsmitglieder können sich bei Fragen in Bezug a
 uf die Kinder- und Jugendarbeit an das Büro im Familienzentrum Alter Bahn
 hof wenden. Für Vereinsmitglieder und Übungsleiter referiert Patrick Thi
 enelt\, Leiter des Kinder- und Jugendbüros in Laubach\, über die rechtli
 chen Grundlagen und gesetzlichen Vorgaben in der Kinder- und Jugendarbeit:
 \n- Aufsichtspflicht und Haftung\n- Kinder- und Jugendschutz\n- §72a SGB 
 VIII: Tätigkeitsausschluss einschlägig vorbestrafter Personen\n- Fallana
 lysen\n\nPlätze begrenzt. Um Anmeldung wird gebeten unter: soziales@lauba
 ch-online.de
ATTACH;FMTTYPE=image/jpeg:https://laubach-online.de/wp-content/uploads/202
 4/12/Fobi-rechtliche-Grundlagen.jpg
LOCATION:Alter Bahnhof\, Bahnhofstraße 33\, 35321 Laubach\, Deutschland
GEO:50.541713;8.984776
X-APPLE-STRUCTURED-LOCATION;VALUE=URI;X-ADDRESS=Bahnhofstraße 33\, 35321 L
 aubach\, Deutschland;X-APPLE-RADIUS=100;X-TITLE=Alter Bahnhof:geo:50.54171
 3,8.984776
END:VEVENT
END:VCALENDAR