BEGIN:VCALENDAR
VERSION:2.0
PRODID:-//wp-events-plugin.com//7.2.1//EN
TZID:Europe/Berlin
X-WR-TIMEZONE:Europe/Berlin
BEGIN:VEVENT
UID:1047@laubach-online.de
DTSTART:20240719T200000Z
DTEND:20240720T234500Z
DTSTAMP:20240719T103759Z
URL:https://laubach-online.de/events/frei-licht-kino-open-air-im-schloss-l
 aubach/
SUMMARY:Frei Licht Kino Open Air im Schloss Laubach
DESCRIPTION:Live SONGS OF THE MOON - Keller\, Warnke &amp\; Reich\nUlla Kel
 ler (Sängerin) und Frank Warnke ( Gitarrist) spielen und zelebrieren in i
 hrem neuen Programm „ Songs oft he Moon“ Geschichten vom Mond aller Ar
 ten. Ob als ganz neue Interpretation von Schuberts Mondnacht\, des weltbek
 annten Brecht und Weill Songs „ Moon from Alabama“ oder Bruno Mars „
 Talking to the Moon“\, sie finden ihren Weg mit sphärischen Klängen un
 d lassen diese Songs so wirken\, dass man sich dem Zauber des Mondes nicht
  entziehen kann. Für die Reise zum Mond haben sie den Percussionisten und
  Handpanartisten Markus Reich eingeladen. Walking on the Moon…..\n\nFilm
  - Preview GLORIA!\nItalien\, Schweiz 2023\, Farbe\, 104 Min.\, FSK: ab\nR
 egie: Margherita Vicario\nDarstellerInnen: Galatéa Bellugi\, Carlotta Gam
 ba\, Maria Vittoria Dallasta\, Sara Mafodda\, Paolo Rossi\nVenedig um 1800
 : Im Kollegium Sant Ignazio\, einer alten Musikschule für mittellose Mäd
 chen\, lebt Teresa\, von allen nur „die Stumme“ genannt. Niemand ahnt 
 etwas von dem außergewöhnlichen Talent dieser einfachen Magd\, das sie b
 efähigt\, die Wirklichkeit als Rhythmus zu erleben\, ihre Schönheit wahr
 zunehmen und sie durch Musik zu verändern. Während sich im Kollegium all
 es um den bevorstehenden Besuch des frisch inthronisierten Papstes dreht u
 nd der alte Kapellmeister sich abmüht\, eine glorreiche Komposition für 
 den Pontifex zu ersinnen\, macht Teresa in der Abstellkammer eine Entdecku
 ng: eine brandneue\, aber auch unheimliche Erfindung\, ein wunderschönes 
 Instrument – ein Pianoforte. Um Teresa und die revolutionäre „Musikma
 schine“ versammelt sich ein außergewöhnliches Quartett von jungen Frau
 en\, zunächst als Rivalinnen\, doch zunehmend als Komplizinnen. Diese Mus
 ikerinnen sind eine Quelle großen\, aber ganz bewusst übersehenen Talent
 s. Gegen den Willen des Kapellmeisters entwickeln sie ihre eigene Vision v
 on Musik\, inspiriert von ihrer Lebenswelt\, ihren Gefühlen\, dem Rhythmu
 s ihres Seins. Es entsteht ein revolutionärer\, femininer Sound\, den die
  Welt ganz sicher nicht erwartet hat...\nGLORIA! ist eine ungestüme filmi
 sche Sinfonie\, die die Entfesselung weiblicher Kreativität ebenso feiert
  wie die Entstehung der modernen romantischen Popmusik. Mit ihrem berühre
 nden wie mitreißenden Regiedebüt setzt die Regisseurin Margherita Vicari
 o all den vielen vergessenen Komponistinnen ein Denkmal\, die wie gepresst
 e Blumen zwischen den Seiten der Geschichte verborgen sind.
ATTACH;FMTTYPE=image/jpeg:https://laubach-online.de/wp-content/uploads/202
 4/07/Freilichtkino-scaled.jpg
LOCATION:Schlosshof Laubach\, Schloss\, Laubach\, Deutschland\, 35321\, Hes
 sen\, Deutschland
GEO:50.542772;8.991702
X-APPLE-STRUCTURED-LOCATION;VALUE=URI;X-ADDRESS=Schloss\, Laubach\, Deutsch
 land\, 35321\, Hessen\, Deutschland;X-APPLE-RADIUS=100;X-TITLE=Schlosshof 
 Laubach:geo:50.542772,8.991702
END:VEVENT
END:VCALENDAR