BEGIN:VCALENDAR
VERSION:2.0
PRODID:-//wp-events-plugin.com//7.2.1//EN
TZID:Europe/Berlin
X-WR-TIMEZONE:Europe/Berlin
BEGIN:VEVENT
UID:1083@laubach-online.de
DTSTART:20250629T140000Z
DTEND:20250629T190000Z
DTSTAMP:20241106T104045Z
URL:https://laubach-online.de/events/freies-treffen-der-oldtimerfreunde-2/
SUMMARY:Freies Treffen der Oldtimerfreunde
DESCRIPTION:Teilnahme und Besuch sind kostenfrei.\nKaffee steht auf Spenden
 basis zur Verfügung.\nDer Kaffeekassenanteil kommt einer Laubacher Schule
  zu gute.
ATTACH;FMTTYPE=image/jpeg:https://laubach-online.de/wp-content/uploads/202
 4/10/DSC06080-groesse-veraendert.jpg
LOCATION:Festplatz Helle\, Hungener Straße\, Laubach\, 35321\, Deutschland
GEO:50.537757;8.983599
X-APPLE-STRUCTURED-LOCATION;VALUE=URI;X-ADDRESS=Hungener Straße\, Laubach\
 , 35321\, Deutschland;X-APPLE-RADIUS=100;X-TITLE=Festplatz Helle:geo:50.53
 7757,8.983599
END:VEVENT
END:VCALENDAR