BEGIN:VCALENDAR
VERSION:2.0
PRODID:-//wp-events-plugin.com//7.2.1//EN
TZID:Europe/Berlin
X-WR-TIMEZONE:Europe/Berlin
BEGIN:VEVENT
UID:950@laubach-online.de
DTSTART:20240128T141100Z
DTEND:20240128T200000Z
DTSTAMP:20240112T133848Z
URL:https://laubach-online.de/events/fremdensitzung-2/
SUMMARY:Fremdensitzung
DESCRIPTION:Der Hexenkessel brodelt &amp\; kracht - Wetterfeld feiert Fasse
 nacht 🧙‍♀️🪄🧙‍♂️\n\n&nbsp\;\n\nam 19.01.2024 um 18:00 
 Uhr startet der Kartenverkauf im DGH Wetterfeld
ATTACH;FMTTYPE=image/jpeg:https://laubach-online.de/wp-content/uploads/202
 4/01/Wetterfeld.jpg
LOCATION:Dorfgemeinschaftshaus Wetterfeld\, Ruppertsburger Str. 3\, Wetterf
 eld\, 35321\, Deutschland
GEO:50.547523;8.955822
X-APPLE-STRUCTURED-LOCATION;VALUE=URI;X-ADDRESS=Ruppertsburger Str. 3\, Wet
 terfeld\, 35321\, Deutschland;X-APPLE-RADIUS=100;X-TITLE=Dorfgemeinschafts
 haus Wetterfeld:geo:50.547523,8.955822
END:VEVENT
END:VCALENDAR