BEGIN:VCALENDAR
VERSION:2.0
PRODID:-//wp-events-plugin.com//7.2.1//EN
TZID:Europe/Berlin
X-WR-TIMEZONE:Europe/Berlin
BEGIN:VEVENT
UID:947@laubach-online.de
DTSTART:20240210T200000Z
DTEND:20240210T234500Z
DTSTAMP:20240112T143423Z
URL:https://laubach-online.de/events/fremdensitzung-in-muenster/
SUMMARY:Fremdensitzung in Münster
DESCRIPTION:HELAU aus Münster.\nDieses Jahr wird im DGH in Münster unter 
 dem Motto:\n„Hokuspokus Fidibus\nhöret uns‘ren Zauberspruch\,\ndenn j
 etzt beginnt hier die Magie\,\nMiester verzaubert wie noch nie.\nHarry Pot
 ter\, Fabelwesen\nund Hexen auf ihren Hexenbesen\,\nkommt herbei zur Narre
 tei\,\nenemene eins\, zwei\, drei.“\nFasching gefeiert.\n\nEs geht los a
 m 10.02.24 mit unserer Fremdensitzung: Einlass ab 19.11 Uhr\, Beginn um 20
 .11 Uhr\, Eintritt 8€.\nAm Rosenmontag (12.02.24) findet unsere Rosenmon
 tagsparty statt: Einlass ab 20.11 Uhr\, Eintritt frei.\nUnd am Faschingsdi
 enstag (13.02.24) begrüßen wir euch zu unserem Kinderfasching\, traditio
 nell mit Strohbär und seinen Masken: Einlass ab 15.11 Uhr\, Eintritt frei
 .\nWir freuen uns schon sehr auf ein buntes Faschingswochenende in Münste
 r.\nKommt gerne vorbei!\nHELAU!
ATTACH;FMTTYPE=image/jpeg:https://laubach-online.de/wp-content/uploads/202
 4/01/Muenster.jpg
CATEGORIES:Märkte &amp; Feste
END:VEVENT
END:VCALENDAR