BEGIN:VCALENDAR
VERSION:2.0
PRODID:-//wp-events-plugin.com//7.2.1//EN
TZID:Europe/Berlin
X-WR-TIMEZONE:Europe/Berlin
BEGIN:VEVENT
UID:1468@laubach-online.de
DTSTART:20260201T141100Z
DTEND:20260201T180000Z
DTSTAMP:20260115T110109Z
URL:https://laubach-online.de/events/fremdensitzung-steampunk-wetterfeld-t
 eil-2/
SUMMARY:Fremdensitzung Steampunk Wetterfeld Teil 2
DESCRIPTION:
LOCATION:Dorfgemeinschaftshaus Wetterfeld\, Ruppertsburger Str. 3\, Wetterf
 eld\, 35321\, Deutschland
GEO:50.547523;8.955822
X-APPLE-STRUCTURED-LOCATION;VALUE=URI;X-ADDRESS=Ruppertsburger Str. 3\, Wet
 terfeld\, 35321\, Deutschland;X-APPLE-RADIUS=100;X-TITLE=Dorfgemeinschafts
 haus Wetterfeld:geo:50.547523,8.955822
END:VEVENT
END:VCALENDAR