BEGIN:VCALENDAR
VERSION:2.0
PRODID:-//wp-events-plugin.com//7.2.1//EN
TZID:Europe/Berlin
X-WR-TIMEZONE:Europe/Berlin
BEGIN:VEVENT
UID:1534@laubach-online.de
DTSTART:20260426T160000Z
DTEND:20260426T180000Z
DTSTAMP:20260416T065925Z
URL:https://laubach-online.de/events/fruehlingskonzert-des-gesangverein-19
 12-wetterfeld-e-v/
SUMMARY:Frühlingskonzert des Gesangverein 1912 Wetterfeld e.V.
DESCRIPTION:Ein Frühlingskonzert das als Ersatz für das ausgefallene Adve
 ntskonzert durch den Gesangverein 1912 Wetterfeld veranstaltet wird. Das P
 rogrammsieht wie folgt aus:\nOrgel: Der Frühling aus: Die vier Jahreszeit
 en op.8 – Antonio Vivaldi\nChor u. Gäste Danke für diesen guten Morgen
 \nBegrüßung Sigrid Luckert\nChor: Tiritomba Lorenz Maierhofer\nWunder ge
 scheh‘n Nena Kerner / Jürgen Dehmel\nDie kleine Bergkirche K.H. Steinfe
 ld\nFrühlingszeit Tschechische Volksweise\nText Pfarrerin Carina Schmidt-
 Marburger\nChor: Bewahrt die Welt für unsere Kinder Michael Jackson / Lio
 nel Richie\nImmer wieder geht die Sonne auf Udo Jürgens\nDie Rose Armanda
  McBroom\nFür Alle Hanne Haller\nInstrumental Over the Rainbow\nSaxophon:
  What a wonderful World\nText: Pfarrerin Carina Schmidt-Marburger\nChor: H
 alleluja Leonard Cohen\nGabriellas Lied / Wie im Himmel Stefan Nilsson\nIc
 h wollte nie erwachsen sein Peter Maffay / Rolf Zuckowski\nSchau auf die W
 elt John Rutter\nInstrumental Irgendwo auf der Welt\nSaxophon: Unchained M
 elody\nBlue Moon\nText: Pfarrerin Carina Schmidt-Marburger\nChor: Circle o
 f life (Der ewige Kreis) Elton John\nKann es wirklich Liebe sein Elton Joh
 n\nOnly Time Enya /Nicky und Ryan Roma\nChor u. Gäste: Irischer Segenswun
 sch Markus Pytlik\nSchlusswort: Sigrid Luckert
CATEGORIES:Konzerte
LOCATION:Ev. Kirche Wetterfeld\, Kirchgasse 4\, Laubach\, 35321\, Deutschla
 nd
GEO:50.548321;8.955627
X-APPLE-STRUCTURED-LOCATION;VALUE=URI;X-ADDRESS=Kirchgasse 4\, Laubach\, 35
 321\, Deutschland;X-APPLE-RADIUS=100;X-TITLE=Ev. Kirche Wetterfeld:geo:50.
 548321,8.955627
END:VEVENT
END:VCALENDAR