BEGIN:VCALENDAR
VERSION:2.0
PRODID:-//wp-events-plugin.com//7.2.1//EN
TZID:Europe/Berlin
X-WR-TIMEZONE:Europe/Berlin
BEGIN:VEVENT
UID:1456@laubach-online.de
DTSTART:20251128T183000Z
DTEND:20251128T193000Z
DTSTAMP:20251103T155118Z
URL:https://laubach-online.de/events/gloria-universalis/
SUMMARY:Gloria Universalis
DESCRIPTION:Einladung zur offenen Generalprobe! „Gloria Universalis“ so
  heißt das neue Konzertprogramm des Alis Canticum\, der Harmonie Münster
  e.V. Gleich zwei Werke kommen zu Gehör: 1. Mozart Exsultate\, Jubilate\,
  eine Motette die gerade mal von dem 17- jährigen Mozart komponiert wurde
 . Gesungen von der Sopranistin Viktoria Bohdanova und begleitet von Musike
 rn des Camerata Mittelhessen. 2. Vivaldi Gloria in D: Ehre sei Gott in der
  Höhe. Festliche\, dramatische und tänzerische Stücke. Gesungen durch d
 en Chor Alis Canticum und musikalisch begleitet durch das Projektorchester
  der Harmonie Münster\, Camerata Mittelhessen. Lassen Sie sich zu mehr al
 s einer musikalischen Konzertreise mitnehmen. Es freuen sich der Chor Alis
  Canticum\, die Solistinnen\, Camerata Mittelhessen und der Teamvorstand d
 er Harmonie Münster e.V. auf Ihren Konzertbesuch.\nhttps://harmonie-muens
 ter.jimdofree.com/gloria-universalis-konzert-2025
ATTACH;FMTTYPE=image/jpeg:https://laubach-online.de/wp-content/uploads/202
 5/11/GPflyklein.png
CATEGORIES:Konzerte
LOCATION:Ev. Kirche Münster\, Unterpforte 28\, Laubach\, 35321\, Deutschla
 nd
GEO:50.552436;8.919841
X-APPLE-STRUCTURED-LOCATION;VALUE=URI;X-ADDRESS=Unterpforte 28\, Laubach\, 
 35321\, Deutschland;X-APPLE-RADIUS=100;X-TITLE=Ev. Kirche Münster:geo:50.
 552436,8.919841
END:VEVENT
END:VCALENDAR