BEGIN:VCALENDAR
VERSION:2.0
PRODID:-//wp-events-plugin.com//7.2.1//EN
TZID:Europe/Berlin
X-WR-TIMEZONE:Europe/Berlin
BEGIN:VEVENT
UID:1081@laubach-online.de
DTSTART:20250627T170000Z
DTEND:20250627T190000Z
DTSTAMP:20241107T152028Z
URL:https://laubach-online.de/events/gottesdienst-zur-verabschiedung-der-a
 biturientinnen-und-abiturienten-2025-mit-anschl-abiball/
SUMMARY:Gottesdienst zur Verabschiedung der Abiturientinnen und Abituriente
 n 2025 mit anschl. Abiball
DESCRIPTION:
ATTACH;FMTTYPE=image/jpeg:https://laubach-online.de/wp-content/uploads/202
 4/11/laubach-kolleg.jpg
END:VEVENT
END:VCALENDAR