BEGIN:VCALENDAR
VERSION:2.0
PRODID:-//wp-events-plugin.com//7.2.1//EN
TZID:Europe/Berlin
X-WR-TIMEZONE:Europe/Berlin
BEGIN:VEVENT
UID:1431@laubach-online.de
DTSTART:20251018T150000Z
DTEND:20251018T170000Z
DTSTAMP:20250918T132327Z
URL:https://laubach-online.de/events/halloweenfest/
SUMMARY:Halloweenfest
DESCRIPTION:Für Familien mit Kindern im Alter von 3-10 Jahren\n- spannende
 n Halloween-Geschichten lauschen\n- Laternen basteln\n- Gruselsteine bemal
 en\n\nEine Veranstaltung des Familienzentrums "Alter Bahnhof" in Kooperati
 on mit der Laubacher Bücherstube
ATTACH;FMTTYPE=image/jpeg:https://laubach-online.de/wp-content/uploads/202
 5/09/Halloween-im-Familienzentrum-pdf.jpg
LOCATION:Alter Bahnhof\, Bahnhofstraße 33\, 35321 Laubach\, Deutschland
GEO:50.541713;8.984776
X-APPLE-STRUCTURED-LOCATION;VALUE=URI;X-ADDRESS=Bahnhofstraße 33\, 35321 L
 aubach\, Deutschland;X-APPLE-RADIUS=100;X-TITLE=Alter Bahnhof:geo:50.54171
 3,8.984776
END:VEVENT
END:VCALENDAR