BEGIN:VCALENDAR
VERSION:2.0
PRODID:-//wp-events-plugin.com//7.2.1//EN
TZID:Europe/Berlin
X-WR-TIMEZONE:Europe/Berlin
BEGIN:VEVENT
UID:1528@laubach-online.de
DTSTART:20260418T190000Z
DTEND:20260418T213000Z
DTSTAMP:20260320T082813Z
URL:https://laubach-online.de/events/haltet-den-hasen-simtshaeuser-dorfthe
 ater-in-gonterskirchen/
SUMMARY:"Haltet den Hasen!" Simtshäuser Dorftheater in Gonterskirchen
DESCRIPTION:In "Haltet den Hasen!" bevölkert ein buntes Publikum das Hotel
  von Stefanie. Hat sie wirklich ihren Gatten auf dem Gewissen? Drei junge 
 Frauen wollen es nach dem Abi mal so richtig krachen lassen. Ein frisch ve
 rheiratetes Paar hat es noch nie zusammen getan. Herr Böhm will nicht meh
 r – aber auch seine schlimmen Absichten wollen nicht so recht gelingen. 
 Drei Gangster planen einen Coup\, sind aber nicht wirklich große Nummern 
 ihres Metiers. Eine Polizistin und eine Killerin sind ihnen auf den Fersen
 . Eine Hoteltesterin mach sich heimlich Notizen. Und Rainer\, der Portier\
 , bringt alles gehörig durcheinander. Das Zimmermädchen könnte am Ende 
 Licht ins Dunkel bringen. Ach ja\, und was hat es mit dem Hasen auf sich?\
 n\nVorverkaufsstellen sind Kaufhaus Schwalbach und Firma Schmidt Baustoffe
 \nVorverkauf: 11\,-€\, Abendkasse 13\,-€
ATTACH;FMTTYPE=image/jpeg:https://laubach-online.de/wp-content/uploads/202
 6/03/SVG_Haltet-den-Hasen.jpg
CATEGORIES:Konzerte
LOCATION:Dorfgemeinschaftshaus Gonterskirchen\, Mittelgasse\, 35321 Laubach
 \, Deutschland
GEO:50.515545;9.023603
X-APPLE-STRUCTURED-LOCATION;VALUE=URI;X-ADDRESS=Mittelgasse\, 35321 Laubach
 \, Deutschland;X-APPLE-RADIUS=100;X-TITLE=Dorfgemeinschaftshaus Gonterskir
 chen:geo:50.515545,9.023603
END:VEVENT
END:VCALENDAR