BEGIN:VCALENDAR
VERSION:2.0
PRODID:-//wp-events-plugin.com//7.2.1//EN
TZID:Europe/Berlin
X-WR-TIMEZONE:Europe/Berlin
BEGIN:VEVENT
UID:1515@laubach-online.de
DTSTART:20260514T110000Z
DTEND:20260514T220000Z
DTSTAMP:20260302T133234Z
URL:https://laubach-online.de/events/himmelfahrtsfruehschoppen/
SUMMARY:Himmelfahrtsfrühschoppen
DESCRIPTION:Ab 12 Uhr besteht die Möglichkeit\, gegen Entgelt Kleinkaliber
  zu schießen\, oder Erbsensuppe mit Brot zu essen.
LOCATION:Schützenhaus Am Hellenberg\, Am Hellenberg\, Laubach\, Deutschlan
 d
GEO:50.539319;8.988418
X-APPLE-STRUCTURED-LOCATION;VALUE=URI;X-ADDRESS=Am Hellenberg\, Laubach\, D
 eutschland;X-APPLE-RADIUS=100;X-TITLE=Schützenhaus Am Hellenberg:geo:50.5
 39319,8.988418
END:VEVENT
END:VCALENDAR