BEGIN:VCALENDAR
VERSION:2.0
PRODID:-//wp-events-plugin.com//7.2.1//EN
TZID:Europe/Berlin
X-WR-TIMEZONE:Europe/Berlin
BEGIN:VEVENT
UID:959@laubach-online.de
DTSTART:20240215T190000Z
DTEND:20240215T203000Z
DTSTAMP:20240213T102806Z
URL:https://laubach-online.de/events/informationsveranstaltung-zum-thema-m
 obilfunkmasten/
SUMMARY:Informationsveranstaltung zum Thema Mobilfunkmasten
DESCRIPTION:Informationsveranstaltung zum Thema Mobilfunkmasten\n\n&nbsp\;\
 n\nDer Landkreis Gießen und die Stadt Laubach laden am 15.02.2024 um 19.0
 0 Uhr im Laubacher Rathaussaal zu einer Informationsveranstaltung zum Them
 a Mobilfunkmasten ein.\n\nZum Themenbereich Mobilfunk und Gesundheit wer
 den Experten des Kompetenzzentrums elektromagnetische Felder am Bundesamt 
 für Strahlenschutz in einem Impulsvortrag informieren und auch für Frage
 n digital hinzugeschaltet sein.\n\nZum Mobilfunknetzausbau in der Region u
 nd Standortfragen informiert an diesem Abend ebenfalls mit einem Impulsvo
 rtrag und anschließender Frage-Antwortrunde ein Vertreter der Vantage Tow
 ers AG.\n\nUnterstützt und moderiert wird die Veranstaltung von der Dialo
 ginitiative: „Deutschland spricht über 5G“.
ATTACH;FMTTYPE=image/jpeg:https://laubach-online.de/wp-content/uploads/202
 4/02/mobile-phone-1419275_1280pixabaynureinstueck.jpg
LOCATION:Rathaussaal\, Friedrichstraße 11\, Laubach\, 35321\, Deutschland
GEO:50.540895;8.991633
X-APPLE-STRUCTURED-LOCATION;VALUE=URI;X-ADDRESS=Friedrichstraße 11\, Lauba
 ch\, 35321\, Deutschland;X-APPLE-RADIUS=100;X-TITLE=Rathaussaal:geo:50.540
 895,8.991633
END:VEVENT
END:VCALENDAR