BEGIN:VCALENDAR
VERSION:2.0
PRODID:-//wp-events-plugin.com//7.2.1//EN
TZID:Europe/Berlin
X-WR-TIMEZONE:Europe/Berlin
BEGIN:VEVENT
UID:1128@laubach-online.de
DTSTART:20250226T153000Z
DTEND:20250226T163000Z
DTSTAMP:20250218T091916Z
URL:https://laubach-online.de/events/jahreshauptversammlung-fuer-die-mitgl
 ieder-kreis-der-freunde-und-foerderer-des-laubach-kollegs-e-v/
SUMMARY:Jahreshauptversammlung für die Mitglieder "Kreis der Freunde und F
 örderer des Laubach-Kollegs e. V."
DESCRIPTION:
ATTACH;FMTTYPE=image/jpeg:https://laubach-online.de/wp-content/uploads/202
 4/11/laubach-kolleg.jpg
LOCATION:Laubach-Kolleg\, Königsberger Straße 2\, 35321 Laubach\, Deutsch
 land
GEO:50.539926;8.997675
X-APPLE-STRUCTURED-LOCATION;VALUE=URI;X-ADDRESS=Königsberger Straße 2\, 3
 5321 Laubach\, Deutschland;X-APPLE-RADIUS=100;X-TITLE=Laubach-Kolleg:geo:5
 0.539926,8.997675
END:VEVENT
END:VCALENDAR