BEGIN:VCALENDAR
VERSION:2.0
PRODID:-//wp-events-plugin.com//7.2.1//EN
TZID:Europe/Berlin
X-WR-TIMEZONE:Europe/Berlin
BEGIN:VEVENT
UID:960@laubach-online.de
DTSTART:20240317T110000Z
DTEND:20240317T150000Z
DTSTAMP:20240227T140920Z
URL:https://laubach-online.de/events/jugendbeteiligung-staerken/
SUMMARY:Jugendbeteiligung stärken!
DESCRIPTION:Jugendbeteiligung stärken!\nUnter diesem Motto treffen sich Ju
 gendliche des Jugendbeirates und eine Referentin des Jugendforums Butzbach
 \, Sinem Kiyici\, zu einem Workshop im Roof Club. Miteinander ins Gespräc
 h kommen\, gemeinsame Interessen finden und Aktionen anstoßen\, das sind 
 die Eckpunkte\, um die es bei dem Workshop gehen wird. Der Workshop ist in
  drei Phasen eingeteilt: Zuerst werden beim „Speed Dating“ gemeinsame 
 Interessen und Problemlagen ausgetauscht. In der 2. Phase werden Projekte 
 aus Butzbach vorgestellt. Im dritten Teil werden eigene Projekte erarbeite
 t und angestoßen\, um abschließend einen Zeitplan abzustecken. Darin kö
 nnen Aktivitäten erarbeitet werden\, die in Laubach im Rahmen des Bundesp
 rogramms „Demokratie leben!“ umgesetzt werden können. Eingeladen sind
  alle interessierten Jugendlichen und junge Erwachsene im Alter zwischen 1
 4 Jahre und 21 Jahre. Der Workshop findet am Sonntag 17. März von 11:00 b
 is 15:00 Uhr im Roof-Club Laubach\, Friedrich Kellner 16\, statt.
ATTACH;FMTTYPE=image/jpeg:https://laubach-online.de/wp-content/uploads/202
 4/02/Jugendbeteiligung.jpg
END:VEVENT
END:VCALENDAR