BEGIN:VCALENDAR
VERSION:2.0
PRODID:-//wp-events-plugin.com//7.2.1//EN
TZID:Europe/Berlin
X-WR-TIMEZONE:Europe/Berlin
BEGIN:VEVENT
UID:1461@laubach-online.de
DTSTART:20260125T100000Z
DTEND:20260125T120000Z
DTSTAMP:20260107T094941Z
URL:https://laubach-online.de/events/kartenvorverkauf-fasching-freienseen/
SUMMARY:Kartenvorverkauf Fasching Freienseen
DESCRIPTION:Kartenvorverkauf für die Faschingsveranstaltungen in Freiensee
 n.\n\nKartenvorverkauf am So. 25.01.2026 von 10:00-12:00 in der Heinrich N
 orwig Halle (DGH) Freienseen.\n\nDie 1. Faschingsveranstaltung findet am F
 reitag 06.02.2026 in der Heinrich Norwig Halle (DGH) Freienseen statt.\nEi
 nlass ist ab 18:00\, Start ist 20:11. Einlass ab 16 Jahren (Einlasskontrol
 le)!\n\nDie 2. Faschingsveranstaltung findet am Samstag 07.02.2026 in der 
 Heinrich Norwig Halle (DGH) Freienseen statt.\nEinlass ist ab 18:00\, Star
 t ist 20:11. Einlass ab 16 Jahren (Einlasskontrolle)!
ATTACH;FMTTYPE=image/jpeg:https://laubach-online.de/wp-content/uploads/202
 6/01/Faschingsplakat-Frosch-2026.jpg
LOCATION:Heinrich Norwig Halle Freienseen\, Oberseener Weg\, 35321\, Deutsc
 hland
GEO:50.560367;9.048943
X-APPLE-STRUCTURED-LOCATION;VALUE=URI;X-ADDRESS=Oberseener Weg\, 35321\, De
 utschland;X-APPLE-RADIUS=100;X-TITLE=Heinrich Norwig Halle Freienseen:geo:
 50.560367,9.048943
END:VEVENT
END:VCALENDAR