BEGIN:VCALENDAR
VERSION:2.0
PRODID:-//wp-events-plugin.com//7.2.1//EN
TZID:Europe/Berlin
X-WR-TIMEZONE:Europe/Berlin
BEGIN:VEVENT
UID:953@laubach-online.de
DTSTART:20240211T140000Z
DTEND:20240211T180000Z
DTSTAMP:20240112T145512Z
URL:https://laubach-online.de/events/kinderfasching-freienseen/
SUMMARY:Kinderfasching Freienseen
DESCRIPTION:
CATEGORIES:Konzerte,Märkte &amp; Feste,Sportveranstaltungen
LOCATION:Heinrich Norwig Halle Freienseen\, Oberseener Weg\, 35321\, Deutsc
 hland
GEO:50.560367;9.048943
X-APPLE-STRUCTURED-LOCATION;VALUE=URI;X-ADDRESS=Oberseener Weg\, 35321\, De
 utschland;X-APPLE-RADIUS=100;X-TITLE=Heinrich Norwig Halle Freienseen:geo:
 50.560367,9.048943
END:VEVENT
END:VCALENDAR