BEGIN:VCALENDAR
VERSION:2.0
PRODID:-//wp-events-plugin.com//7.2.1//EN
TZID:Europe/Berlin
X-WR-TIMEZONE:Europe/Berlin
BEGIN:VEVENT
UID:955@laubach-online.de
DTSTART:20240203T140000Z
DTEND:20240203T200000Z
DTSTAMP:20240122T123234Z
URL:https://laubach-online.de/events/kinderfasching-lauter/
SUMMARY:Kinderfasching Lauter
DESCRIPTION:
ATTACH;FMTTYPE=image/jpeg:https://laubach-online.de/wp-content/uploads/202
 3/01/Fasching.jpg
LOCATION:Dorfgemeinschaftshaus Lauter\, An der Lauter \, 35321 Laubach\, De
 utschland
GEO:50.568936;8.972225
X-APPLE-STRUCTURED-LOCATION;VALUE=URI;X-ADDRESS=An der Lauter \, 35321 Laub
 ach\, Deutschland;X-APPLE-RADIUS=100;X-TITLE=Dorfgemeinschaftshaus Lauter:
 geo:50.568936,8.972225
END:VEVENT
END:VCALENDAR