BEGIN:VCALENDAR
VERSION:2.0
PRODID:-//wp-events-plugin.com//7.2.1//EN
TZID:Europe/Berlin
X-WR-TIMEZONE:Europe/Berlin
BEGIN:VEVENT
UID:958@laubach-online.de
DTSTART:20240303T133000Z
DTEND:20240303T160000Z
DTSTAMP:20240123T132011Z
URL:https://laubach-online.de/events/kinderflohmarkt-in-laubach-wetterfeld
 /
SUMMARY:Kinderflohmarkt in Laubach-Wetterfeld
DESCRIPTION:Der Einlass für Schwangere ist bereits um 13:30 Uhr.\nSchwange
 re mit Mutterpass dürfen 1 Begleitperson mitbringen.\nOffizieller Einlass
  ab 14:00 - 16:00 Uhr.\n\n10\,00 € Gebühr + 15% Provision\nmax. 40 Teil
 nehmer à 120 Artikel.\n\nAnmeldung auf Basarlino
ATTACH;FMTTYPE=image/jpeg:https://laubach-online.de/wp-content/uploads/202
 4/01/kinderflohmarktwetterfeld03.03.24.png
END:VEVENT
END:VCALENDAR