BEGIN:VCALENDAR
VERSION:2.0
PRODID:-//wp-events-plugin.com//7.2.1//EN
TZID:Europe/Berlin
X-WR-TIMEZONE:Europe/Berlin
BEGIN:VEVENT
UID:1502@laubach-online.de
DTSTART:20260307T100000Z
DTEND:20260307T130000Z
DTSTAMP:20260211T130225Z
URL:https://laubach-online.de/events/kindernotfalltraining-erste-hilfe-am-
 kind/
SUMMARY:Kindernotfalltraining "Erste Hilfe am Kind"
DESCRIPTION:Der Kurs findet im Gruppenraum des Familienzentrums statt.\n\nA
 nmeldungen bitte direkt an\nLena Sophie Tippner-Moufang\n0163/3831959\ninf
 o@kindernotfalltraining.de
ATTACH;FMTTYPE=image/jpeg:https://laubach-online.de/wp-content/uploads/202
 6/02/0703Notfalltraining-allgemein.jpeg
LOCATION:Alter Bahnhof\, Bahnhofstraße 33\, 35321 Laubach\, Deutschland
GEO:50.541713;8.984776
X-APPLE-STRUCTURED-LOCATION;VALUE=URI;X-ADDRESS=Bahnhofstraße 33\, 35321 L
 aubach\, Deutschland;X-APPLE-RADIUS=100;X-TITLE=Alter Bahnhof:geo:50.54171
 3,8.984776
END:VEVENT
END:VCALENDAR