BEGIN:VCALENDAR
VERSION:2.0
PRODID:-//wp-events-plugin.com//7.2.1//EN
TZID:Europe/Berlin
X-WR-TIMEZONE:Europe/Berlin
BEGIN:VEVENT
UID:1514@laubach-online.de
DTSTART;VALUE=DATE:20260912
DTEND;VALUE=DATE:20260914
DTSTAMP:20260220T140520Z
URL:https://laubach-online.de/events/kirmes-gonterskirchen/
SUMMARY:Kirmes Gonterskirchen
DESCRIPTION:feiert mit dem SV Gonterskirchen!\nWir laden euch herzlich ein\
 , an diesem Wochenende den Alltag hinter euch zu lassen und gemeinsam mit 
 uns das Leben zu feiern.\nAm Samstagabend starten wir ab 20:00 Uhr mit uns
 erem Discoabend.\nFreut euch auf eine bunte Mischung verschiedener Musikri
 chtungen\, die für jeden Geschmack etwas bietet.\nEs ist die perfekte Gel
 egenheit\, um bei kühlen Getränken abzuschalten\, zu tanzen und einen un
 beschwerten Abend in guter Gesellschaft zu verbringen.\nAm Sonntag geht es
  traditionell weiter: Ab 12:00 Uhr übernimmt der Musikzug Villingen die B
 ühne und sorgt mit Blasmusik für die richtige Stimmung im Zelt.\nAls bes
 onderes Highlight laden wir euch zu Freigetränken ein\, während wir das 
 Wochenende gemütlich ausklingen lassen.\nWir freuen uns darauf\, mit euch
  anzustoßen und unvergessliche Stunden zu erleben
LOCATION:Sportplatz Gonterskirchen\, Am Sportplatz\, Laubach\, 35321\, Deut
 schland
GEO:50.517069;9.02514
X-APPLE-STRUCTURED-LOCATION;VALUE=URI;X-ADDRESS=Am Sportplatz\, Laubach\, 3
 5321\, Deutschland;X-APPLE-RADIUS=100;X-TITLE=Sportplatz Gonterskirchen:ge
 o:50.517069,9.02514
END:VEVENT
END:VCALENDAR