BEGIN:VCALENDAR
VERSION:2.0
PRODID:-//wp-events-plugin.com//7.2.1//EN
TZID:Europe/Berlin
X-WR-TIMEZONE:Europe/Berlin
BEGIN:VEVENT
UID:1459@laubach-online.de
DTSTART:20251210T190000Z
DTEND:20251210T213000Z
DTSTAMP:20251128T122342Z
URL:https://laubach-online.de/events/kommunale-waermeplanung/
SUMMARY:Kommunale Wärmeplanung
DESCRIPTION:Einladung zur Informationsveranstaltung\nKommunale Wärmeplanun
 g in Laubach\n\nWie heizen wir in Zukunft sicher\, bezahlbar und klimafreu
 ndlich? Diese Frage steht im Mittelpunkt der kommunalen Wärmeplanung – 
 und Sie sind herzlich eingeladen\, sich zu beteiligen: für die eigene Ori
 entierung und für die gemeinsame Zukunft unserer Stadt.\n\nDie Stadt Laub
 ach hat den Planungsprozess bereits Mitte 2025 gestartet und lädt nun zu 
 einer öffentlichen Informationsveranstaltung ein. Diese findet am 10.12.2
 025 um 19:00 Uhr im Rathaus Laubach statt. Hier erfahren Sie\, welche Ziel
 e die kommunale Wärmeplanung verfolgt\, welche lokalen Potenziale bestehe
 n und wie wir gemeinsam eine zukunftsfähige Wärmeversorgung für Laubach
  entwickeln können. Ihre Perspektive spielt dabei eine zentrale Rolle –
  denn eine erfolgreiche Wärmewende gelingt nur mit den Menschen vor Ort.\
 n\nProgramm:\n\n 	Begrüßung\n 	Vorstellung der kommunalen Wärmeplanung 
 und ihrer Ziele\n 	Präsentation bisheriger Erkenntnisse und geplanter Sch
 ritte\n 	Offene Fragerunde\n\nNutzen Sie diese Gelegenheit\, sich zu infor
 mieren\, Fragen zu stellen und eigene Ideen einzubringen. Ihre Teilnahme i
 st ein wichtiger Beitrag zu einem nachhaltigen und verlässlichen Wärmeko
 nzept für Laubach.\n\nWir freuen uns auf einen spannenden Abend und einen
  konstruktiven Austausch!\n\n&nbsp\;
ATTACH;FMTTYPE=image/jpeg:https://laubach-online.de/wp-content/uploads/202
 5/11/Waermeplanung.jpg
LOCATION:Rathaussaal\, Friedrichstraße 11\, Laubach\, 35321\, Deutschland
GEO:50.540895;8.991633
X-APPLE-STRUCTURED-LOCATION;VALUE=URI;X-ADDRESS=Friedrichstraße 11\, Lauba
 ch\, 35321\, Deutschland;X-APPLE-RADIUS=100;X-TITLE=Rathaussaal:geo:50.540
 895,8.991633
END:VEVENT
END:VCALENDAR