BEGIN:VCALENDAR
VERSION:2.0
PRODID:-//wp-events-plugin.com//7.2.1//EN
TZID:Europe/Berlin
X-WR-TIMEZONE:Europe/Berlin
BEGIN:VEVENT
UID:1465@laubach-online.de
DTSTART:20260131T193000Z
DTEND:20260131T220000Z
DTSTAMP:20260113T092700Z
URL:https://laubach-online.de/events/konzert-der-ddaeutcbp-einer-die-aerzt
 e-tribute-band/
SUMMARY:Konzert der „DDÄUTCBP"\, einer „Die Ärzte" Tribute Band
DESCRIPTION:Konzert der „DDÄUTCBP"\, einer „Die Ärzte" Tribute Band a
 us dem heimischen Raum.\nWas sich unaussprechlich anhört\, ist in Wirklic
 hkeit ausgesprochen gut\, kleine Kostproben der 3-köpfigen Band gibt es a
 uf\ninstagram oder facebook unter instagram oder facebook zu sehen und zu 
 hören.\nEintritt frei – Hutkonzert\, mit Ihrer Spende in den Hut tragen
  Sie zur Gage des Künstlers bei\nund geben Ihre Wertschätzung gegenüber
  seiner Arbeit zum Ausdruck.
ATTACH;FMTTYPE=image/jpeg:https://laubach-online.de/wp-content/uploads/202
 6/01/ddaeutchp-vom-kunstforumlaubach.jpg
CATEGORIES:Konzerte
LOCATION:Braumanufaktur Laubach\, Gerhart-Hautmann-Straße 1\, Laubach\, 35
 321\, Deutschland
GEO:50.542969;8.987482
X-APPLE-STRUCTURED-LOCATION;VALUE=URI;X-ADDRESS=Gerhart-Hautmann-Straße 1\
 , Laubach\, 35321\, Deutschland;X-APPLE-RADIUS=100;X-TITLE=Braumanufaktur 
 Laubach:geo:50.542969,8.987482
END:VEVENT
END:VCALENDAR