BEGIN:VCALENDAR
VERSION:2.0
PRODID:-//wp-events-plugin.com//7.2.1//EN
TZID:Europe/Berlin
X-WR-TIMEZONE:Europe/Berlin
BEGIN:VEVENT
UID:1512@laubach-online.de
DTSTART:20260305T190000Z
DTEND:20260305T203000Z
DTSTAMP:20260219T120708Z
URL:https://laubach-online.de/events/kostenloser-infovortrag-zum-thema-mis
 teln/
SUMMARY:Kostenloser Infovortrag zum Thema „Misteln“
DESCRIPTION:Kostenloser Infovortrag der Landschaftspflegevereinigung zum Th
 ema „Misteln“\nDie Landschaftspflegevereinigung Gießen e.V. (LPV) lä
 dt alle interessierten Bürgerinnen und Bürger herzlich zu einem spannend
 en Infovortrag über die Mistel ein.\nDabei geht es um Wissenswertes zur B
 iologie\, ihre Verbreitung in unserer Region sowie um den richtigen Umgang
  mit Misteln an Obstbäumen.\nDer Vortrag ist kostenlos\, eine Anmeldung i
 st nicht erforderlich.\n\nKontaktdaten bei Rückfragen:\nAlisa Diehl\n0640
 8 96 97 815\nalisa.diehl@lpv-giessen.de
ATTACH;FMTTYPE=image/jpeg:https://laubach-online.de/wp-content/uploads/202
 6/02/Werbung_Laubach_05.03.2026.jpg
LOCATION:Rathaussaal\, Friedrichstraße 11\, Laubach\, 35321\, Deutschland
GEO:50.540895;8.991633
X-APPLE-STRUCTURED-LOCATION;VALUE=URI;X-ADDRESS=Friedrichstraße 11\, Lauba
 ch\, 35321\, Deutschland;X-APPLE-RADIUS=100;X-TITLE=Rathaussaal:geo:50.540
 895,8.991633
END:VEVENT
END:VCALENDAR