BEGIN:VCALENDAR
VERSION:2.0
PRODID:-//wp-events-plugin.com//7.2.1//EN
TZID:Europe/Berlin
X-WR-TIMEZONE:Europe/Berlin
BEGIN:VEVENT
UID:1366@laubach-online.de
DTSTART:20250618T193000Z
DTEND:20250618T230000Z
DTSTAMP:20250610T084107Z
URL:https://laubach-online.de/events/krach-am-bach/
SUMMARY:Krach am Bach
DESCRIPTION:Musik live in Goki mit Escape (Kolleg-Band)\, den Horloffstimme
 n (Dorf-Chor) und anderen an Mirko\, Saiten und Tasten.\n\nEintritt frei
CATEGORIES:Konzerte
LOCATION:Sportplatz Gonterskirchen\, Am Sportplatz\, Laubach\, 35321\, Deut
 schland
GEO:50.517069;9.02514
X-APPLE-STRUCTURED-LOCATION;VALUE=URI;X-ADDRESS=Am Sportplatz\, Laubach\, 3
 5321\, Deutschland;X-APPLE-RADIUS=100;X-TITLE=Sportplatz Gonterskirchen:ge
 o:50.517069,9.02514
END:VEVENT
END:VCALENDAR