BEGIN:VCALENDAR
VERSION:2.0
PRODID:-//wp-events-plugin.com//7.2.1//EN
TZID:Europe/Berlin
X-WR-TIMEZONE:Europe/Berlin
BEGIN:VEVENT
UID:1022@laubach-online.de
DTSTART:20240526T120000Z
DTEND:20240526T180000Z
DTSTAMP:20240524T114153Z
URL:https://laubach-online.de/events/kreativmarkt-laubach/
SUMMARY:Kreativmarkt in der Altstadt Laubach
DESCRIPTION:
CATEGORIES:Märkte &amp; Feste
END:VEVENT
END:VCALENDAR