BEGIN:VCALENDAR
VERSION:2.0
PRODID:-//wp-events-plugin.com//7.2.1//EN
TZID:Europe/Berlin
X-WR-TIMEZONE:Europe/Berlin
BEGIN:VEVENT
UID:1057@laubach-online.de
DTSTART:20241031T200000Z
DTEND:20241031T220000Z
DTSTAMP:20240911T144946Z
URL:https://laubach-online.de/events/krimifestial-giessen-friedrich-ani-pr
 aesentiert-einen-neuen-fall-fuer-privatdetektiv-sueden/
SUMMARY:Krimifestial Gießen: FRIEDRICH ANI präsentiert einen neuen Fall f
 ür Privatdetektiv Süden
DESCRIPTION:Ein verschwundener Ladenbesitzer\, der noch große Pläne hatte
 . Seine Frau\, die sich am Ende ihrer Träume wähnt. Ein ehemaliger Umzug
 sunternehmer mit Schuldkomplex. Ein geheimnisvoller Besucher aus der Berli
 ner Halbwelt. Ihre Schicksalslinien treffen in München aufeinander\, wodu
 rch das Leben aller Beteiligten aus den Fugen gerät. Leo Ahorn ist versch
 wunden. Dabei hatte er die letzten Wochen hauptsächlich damit zugebracht\
 , Geld für den Umbau seines Schreibwarenladens aufzutreiben. Da seine Fra
 u die Polizei scheut\, heuert sie Privatdetektiv Tabor Süden an\, um Leo 
 zu finden. Allerdings weiß sie gar nicht so genau\, ob sie ihn wirklich w
 iederhaben will. Im Blauen Eck\, Leos Stammkneipe\, stößt Süden auf ein
 e illustre Schar von Leos Bekannten und bekommt beklemmende Einblicke in d
 essen Leben. Dann wird in der Nähe ein Toter aufgefunden\, und die Ereign
 isse erscheinen plötzlich in einem völlig neuen Licht. Oberkommissarin F
 ariza Nasri nimmt mit ihrem Team die Ermittlungen auf\, während Tabor Sü
 den auf magische Weise im Hintergrund die Fäden zieht.\n\nSeit 1998 erfre
 ut Friedrich Anis Buchreihe um Tabor Süden die Freund*innen der Krimiwelt
 . Erschienen sind bislang 21 Bände. Er wurde für seine Krimireihe mehrfa
 ch mit dem Deutschen Krimipreis ausgezeichnet. Sie wurde teils verfilmt. A
 uf Einladung der Stadt Laubach ist der renommierte Krimi-Autor wiederholt 
 Gast des Krimifestival Gießen. Wer ihn schon erlebt hat\, der weiß: Sein
 e Lesungen sind stets ein Mehrwert gegenüber dem Lesen des Krimis im »st
 illen Kämmerlein«. Gern spricht er über Themenfindung und Figurengestal
 tung und den Entstehungsprozess seiner Kriminalromane.\n© Susie Knoll\nFR
 IEDRICH ANI\, geboren 1959\, lebt in München. Er schreibt Romane\, Gedich
 te\, Jugendbücher\, Hörspiele\, Theaterstücke und Drehbücher. Sein Wer
 k wurde mehrfach übersetzt und vielfach prämiert\, u. a. mit dem »Deuts
 chen Krimipreis«\, dem »Crime Cologne Award«\, dem »Stuttgarter Krimip
 reis«\, dem »Adolf-Grimme-Preis« und dem »Bayerischen Fernsehpreis«. 
 Ani ist Mitglied des PEN-Berlin.\n\n\nTickets kaufen\n\nLaubach Tourismus\
 ,\nBahnhofstraße 1\, Laubach
ATTACH;FMTTYPE=image/jpeg:https://laubach-online.de/wp-content/uploads/202
 4/09/Krimifestival24.jpg
CATEGORIES:Lesung
LOCATION:Rathaussaal\, Friedrichstraße 11\, Laubach\, 35321\, Deutschland
GEO:50.540895;8.991633
X-APPLE-STRUCTURED-LOCATION;VALUE=URI;X-ADDRESS=Friedrichstraße 11\, Lauba
 ch\, 35321\, Deutschland;X-APPLE-RADIUS=100;X-TITLE=Rathaussaal:geo:50.540
 895,8.991633
END:VEVENT
END:VCALENDAR