BEGIN:VCALENDAR
VERSION:2.0
PRODID:-//wp-events-plugin.com//7.2.1//EN
TZID:Europe/Berlin
X-WR-TIMEZONE:Europe/Berlin
BEGIN:VEVENT
UID:1428@laubach-online.de
DTSTART:20251025T200000Z
DTEND:20251025T213000Z
DTSTAMP:20250917T085850Z
URL:https://laubach-online.de/events/krimifestival-giessen-mords-kirmes-mi
 t-schraegem-ermittlerduo-ralf-kramp-und-carsten-sebastian-henn-auf-lachtra
 enentreibender-verbrecherjagd/
SUMMARY:Krimifestival Gießen „Mords Kirmes mit schrägem Ermittlerduo“
  Ralf Kramp und Carsten Sebastian Henn auf lachtränentreibender Verbreche
 rjagd
DESCRIPTION:„Mords Kirmes mit schrägem Ermittlerduo“\nRalf Kramp und C
 arsten Sebastian Henn auf lachtränentreibender Verbrecherjagd\nWenn der K
 irmesknochen ausgegraben ist\, folgt eigentlich ein Wochenende lang ausgel
 assene Hochstimmung\, doch in diesem Jahr ist alles anders. Ein Mord gesch
 ieht auf dem Kirmesplatz! Zwischen Schießbude\, Raupe und Entenangeln hab
 en Omma Brock und Kaplan Unkel – das schrägste Ermittlerduo\, seit es E
 ifelkrimis gibt – ihre liebe Not\, den Mörder zu finden. In der Geister
 bahn\, auf dem Autoscooter und bei der traditionellen Kirmesschlägerei ze
 rtrampeln sie Spuren\, stellen die falschen Fragen und verfolgen völlig f
 alsche Fährten.\nBei ihrem Mords-Kirmes-Programm ziehen die beiden Krimia
 utoren Carsten-Sebastian Henn und Ralf Kramp auf Einladung der Stadt Lauba
 ch alle Register ihres Könnens und lassen dabei das Publikum kräftig mit
 wirken!\nCARSTEN SEBASTIAN HENN ist der »König des kulinarischen Krimis
 «\, dessen Reihe um den ermittelnden Koch Julius Eichendorff aus dem Ahrt
 al deutschlandweit einen großen Fan-Kreis besitzt. Sein Roman »Der Buchs
 pazierer« stand über ein Jahr ununterbrochen auf der SPIEGEL-Bestsellerl
 iste.\nRALF KRAMP veranstaltet unter dem Label »Blutspur« Krimi-Erlebnis
 wochenenden in der Eifel und wurde 2023 mit dem Friedrich-Glauser-Ehrenpre
 is des deutschsprachigen Autorenvereins Syndikat »in Würdigung seines he
 rausragenden Engagements für die deutschsprachige Krimiszene« geehrt.\nI
 nfos und Kartenvorverkauf im Kultur- und Tourismusbüro Laubach\, Bahnhofs
 traße 1\, 06405 – 921 321 oder tourist-info@laubach-online.de.\nEintrit
 t: 13\,- € oder Online unter www.krimifestival-giessen.de (zzgl. VVK-Geb
 ühr).
ATTACH;FMTTYPE=image/jpeg:https://laubach-online.de/wp-content/uploads/202
 5/09/Autor_Ralf-Kramp-679x1024-1.jpg
CATEGORIES:Lesung
LOCATION:Rathaussaal\, Friedrichstraße 11\, Laubach\, 35321\, Deutschland
GEO:50.540895;8.991633
X-APPLE-STRUCTURED-LOCATION;VALUE=URI;X-ADDRESS=Friedrichstraße 11\, Lauba
 ch\, 35321\, Deutschland;X-APPLE-RADIUS=100;X-TITLE=Rathaussaal:geo:50.540
 895,8.991633
END:VEVENT
END:VCALENDAR