BEGIN:VCALENDAR
VERSION:2.0
PRODID:-//wp-events-plugin.com//7.2.1//EN
TZID:Europe/Berlin
X-WR-TIMEZONE:Europe/Berlin
BEGIN:VEVENT
UID:1074@laubach-online.de
DTSTART;VALUE=DATE:20250627
DTEND;VALUE=DATE:20250629
DTSTAMP:20241212T141410Z
URL:https://laubach-online.de/events/kroa-festival/
SUMMARY:KROA Festival
DESCRIPTION:Das vierte KROA Festival findet am 27. und 28. Juni 2025 wieder
  im wundervollen Laubacher Schlosspark statt.\nNeben einem Musikprogramm a
 us bekannten und aufstrebenden Künstler*innen aus dem Indie-Pop-Scope gib
 t es Art-Installation\,\nMarketplace\, Workshops\, Aktivitäten und Festiv
 al Camping.\n\nDas KROA Festival bietet ab sofort für Laubacher Einwohner
 *innen dauerhaft die günstigste Ticketkategorie an.\nJe näher der Verans
 taltungstermin rückt\, desto größer wird der Rabatt: Erwachsene erhalte
 n bis zu 80 % und Youngs bis zu 53 % Nachlass.\nMit dem Code LAUBACH kann 
 die spezielle Preisstufe freigeschaltet werden.\nEin gültiger Wohnsitznac
 hweis ist beim Einlass erforderlich.\nWeitere Infos und Tickets: https://w
 ww.kroa-festival.com/
ATTACH;FMTTYPE=image/jpeg:https://laubach-online.de/wp-content/uploads/202
 4/10/KROA-Veranstaltungsbild-2025-square-700x700-1.png
CATEGORIES:Konzerte
LOCATION:Schlosspark\, Schlosspark\, Laubach\, Deutschland
GEO:50.544425;8.993532
X-APPLE-STRUCTURED-LOCATION;VALUE=URI;X-ADDRESS=Schlosspark\, Laubach\, Deu
 tschland;X-APPLE-RADIUS=100;X-TITLE=Schlosspark:geo:50.544425,8.993532
END:VEVENT
END:VCALENDAR