BEGIN:VCALENDAR
VERSION:2.0
PRODID:-//wp-events-plugin.com//7.2.1//EN
TZID:Europe/Berlin
X-WR-TIMEZONE:Europe/Berlin
BEGIN:VEVENT
UID:1090@laubach-online.de
DTSTART:20241215T140000Z
DTEND:20241215T160000Z
DTSTAMP:20241205T081023Z
URL:https://laubach-online.de/events/kunstausstellung-2/
SUMMARY:Kunstausstellung
DESCRIPTION:Kunstausstellung: Madeleine Solms und ihre kreativen Enkel. Er
 öffnungsfeier am 14. Dezember 2024 um 14 Uhr in der Herrenscheune in Laub
 ach.
ATTACH;FMTTYPE=image/jpeg:https://laubach-online.de/wp-content/uploads/202
 4/12/madeleineundenkel.jpg
LOCATION:Schloss Laubach\, Schloss\, Laubach\, Deutschland
GEO:50.542753;8.991526
X-APPLE-STRUCTURED-LOCATION;VALUE=URI;X-ADDRESS=Schloss\, Laubach\, Deutsch
 land;X-APPLE-RADIUS=100;X-TITLE=Schloss Laubach:geo:50.542753,8.991526
END:VEVENT
END:VCALENDAR