BEGIN:VCALENDAR
VERSION:2.0
PRODID:-//wp-events-plugin.com//7.2.1//EN
TZID:Europe/Berlin
X-WR-TIMEZONE:Europe/Berlin
BEGIN:VEVENT
UID:1017@laubach-online.de
DTSTART:20240526T090000Z
DTEND:20240526T160000Z
DTSTAMP:20240521T095422Z
URL:https://laubach-online.de/events/landesmeisterschaften-target-sprint-u
 nd-bambini-sommerbiathlon/
SUMMARY:Landesmeisterschaften Target Sprint und Bambini Sommerbiathlon
DESCRIPTION:Am Sonntag\, den 26.05.2024 finden in Laubach die Hessichen Mei
 sterschaften im Target Sprint sowie die Landesmeisterschaften der Bambini 
 im Sommerbiathlon statt. Interessierte Zuschauer sind herzlich willkommen.
 \n\nZeitplan:\n9:00-10:00 Uhr offenes Training\n10:30-12:00 Uhr Landesmeis
 terschaft Target Sprint\, 1. Durchgang\n12:30-13:30 Uhr Landesmeisterschaf
 t Bambini Sommerbiathlon\n14:00-15:30 Uhr Landesmeisterschaft Target Sprin
 t\, 2. Durchgang\n16:00 Uhr Siegerehrungen\n\nWas ist Target Sprint?\nDer 
 Target Sprint ist noch eine recht junge Disziplin\, in welcher der interna
 tionale Dachverband ISSF seit 2017 internationale Meisterschaften austräg
 t.\nTarget Sprint wird auf der Kurzdistanz von dreimal 400m-Laufrunden aus
 getragen. Nach der ersten und zweiten Runde ist jeweils ein Stehendschieß
 en zu absolvieren\, ehe der Athlet nach der dritten Laufrunde ins Ziel lä
 uft. Im Gegensatz zum Sommerbiathlon werden alle Wettkampfformen des Targe
 t Sprints (Einzel\, 3er-Team und Mixed-Team) als Massenstartrennen durchge
 führt\, in denen max. 12 Sportler in einem Lauf gegeneinander antreten. D
 ie Streckenlänge und der Ablaufmodus sind für alle Altersklassen gleich.
  Das Schießen erfolgt mit Druckluftwaffen. Es sind zweimal bis zu 15 Schu
 ss\, welche einzeln nachgeladen werden müssen\, für fünf zu treffende Z
 iele abzugeben. Sollten nach Abgabe des 15. Schusses noch nicht alle Schei
 ben getroffen sein\, muss der Sportler eine Zeitstrafe von 15 Sekunden in 
 der sogenannten „Penalty Box“ absitzen\, bevor er die nächste Laufrun
 de absolvieren darf.
ATTACH;FMTTYPE=image/jpeg:https://laubach-online.de/wp-content/uploads/202
 4/05/SoBi-Team-1.jpg
CATEGORIES:Sportveranstaltungen
LOCATION:Schützenhaus Am Hellenberg\, Am Hellenberg\, Laubach\, Deutschlan
 d
GEO:50.539319;8.988418
X-APPLE-STRUCTURED-LOCATION;VALUE=URI;X-ADDRESS=Am Hellenberg\, Laubach\, D
 eutschland;X-APPLE-RADIUS=100;X-TITLE=Schützenhaus Am Hellenberg:geo:50.5
 39319,8.988418
END:VEVENT
END:VCALENDAR