BEGIN:VCALENDAR
VERSION:2.0
PRODID:-//wp-events-plugin.com//7.2.1//EN
TZID:Europe/Berlin
X-WR-TIMEZONE:Europe/Berlin
BEGIN:VEVENT
UID:1100@laubach-online.de
DTSTART:20250504T120000Z
DTEND:20250504T180000Z
DTSTAMP:20250103T092359Z
URL:https://laubach-online.de/events/laubach-maerchenhaft-2/
SUMMARY:Laubach \\\\\\"Märchenhaft\\\\\\"
DESCRIPTION:
ATTACH;FMTTYPE=image/jpeg:https://laubach-online.de/wp-content/uploads/202
 5/01/Postkarte-202501-01.jpg
CATEGORIES:Märkte &amp; Feste
LOCATION:Markt- und Kirchplatz\, Marktplatz\, Laubach\, Deutschland
GEO:50.54235;8.99029
X-APPLE-STRUCTURED-LOCATION;VALUE=URI;X-ADDRESS=Marktplatz\, Laubach\, Deut
 schland;X-APPLE-RADIUS=100;X-TITLE=Markt- und Kirchplatz:geo:50.54235,8.99
 029
END:VEVENT
END:VCALENDAR