BEGIN:VCALENDAR
VERSION:2.0
PRODID:-//wp-events-plugin.com//7.2.1//EN
TZID:Europe/Berlin
X-WR-TIMEZONE:Europe/Berlin
BEGIN:VEVENT
UID:1424@laubach-online.de
DTSTART:20260904T153000Z
DTEND:20260904T213000Z
DTSTAMP:20250908T141613Z
URL:https://laubach-online.de/events/laubacher-feierabendmarkt-2-2026-09-0
 4/
SUMMARY:Laubacher Feierabendmarkt
DESCRIPTION:
ATTACH;FMTTYPE=image/jpeg:https://laubach-online.de/wp-content/uploads/202
 5/09/Feierabendmarkt1.jpg
CATEGORIES:Märkte &amp; Feste
LOCATION:Markt- und Kirchplatz\, Marktplatz\, Laubach\, Deutschland
GEO:50.54235;8.99029
X-APPLE-STRUCTURED-LOCATION;VALUE=URI;X-ADDRESS=Marktplatz\, Laubach\, Deut
 schland;X-APPLE-RADIUS=100;X-TITLE=Markt- und Kirchplatz:geo:50.54235,8.99
 029
END:VEVENT
END:VCALENDAR