BEGIN:VCALENDAR
VERSION:2.0
PRODID:-//wp-events-plugin.com//7.2.1//EN
TZID:Europe/Berlin
X-WR-TIMEZONE:Europe/Berlin
BEGIN:VEVENT
UID:1064@laubach-online.de
DTSTART:20250606T163000Z
DTEND:20250607T234500Z
DTSTAMP:20250218T131626Z
URL:https://laubach-online.de/events/laubacher-feierabendmarkt-2025-06-06/
SUMMARY:Laubach’er Feierabendmarkt
DESCRIPTION:
CATEGORIES:Märkte &amp; Feste
LOCATION:Markt- und Kirchplatz\, Marktplatz\, Laubach\, Deutschland
GEO:50.54235;8.99029
X-APPLE-STRUCTURED-LOCATION;VALUE=URI;X-ADDRESS=Marktplatz\, Laubach\, Deut
 schland;X-APPLE-RADIUS=100;X-TITLE=Markt- und Kirchplatz:geo:50.54235,8.99
 029
END:VEVENT
END:VCALENDAR