BEGIN:VCALENDAR
VERSION:2.0
PRODID:-//wp-events-plugin.com//7.2.1//EN
TZID:Europe/Berlin
X-WR-TIMEZONE:Europe/Berlin
BEGIN:VEVENT
UID:1506@laubach-online.de
DTSTART:20260605T153000Z
DTEND:20260605T213000Z
DTSTAMP:20260218T104021Z
URL:https://laubach-online.de/events/laubacher-feierabendmarkt-original-2/
SUMMARY:Laubacher Feierabendmarkt "Original"
DESCRIPTION:
ATTACH;FMTTYPE=image/jpeg:https://laubach-online.de/wp-content/uploads/202
 6/02/1000196869-b-2.jpg
CATEGORIES:Märkte &amp; Feste
LOCATION:Braumanufaktur Laubach\, Gerhart-Hautmann-Straße 1\, Laubach\, 35
 321\, Deutschland
GEO:50.542969;8.987482
X-APPLE-STRUCTURED-LOCATION;VALUE=URI;X-ADDRESS=Gerhart-Hautmann-Straße 1\
 , Laubach\, 35321\, Deutschland;X-APPLE-RADIUS=100;X-TITLE=Braumanufaktur 
 Laubach:geo:50.542969,8.987482
END:VEVENT
END:VCALENDAR