BEGIN:VCALENDAR
VERSION:2.0
PRODID:-//wp-events-plugin.com//7.2.1//EN
TZID:Europe/Berlin
X-WR-TIMEZONE:Europe/Berlin
BEGIN:VEVENT
UID:1511@laubach-online.de
DTSTART:20261231T140000Z
DTEND:20261231T180000Z
DTSTAMP:20260218T103300Z
URL:https://laubach-online.de/events/laubacher-silvester-gluehen-2026-orig
 inal/
SUMMARY:Laubacher Silvester-glühen 2026 "Original"
DESCRIPTION:
ATTACH;FMTTYPE=image/jpeg:https://laubach-online.de/wp-content/uploads/202
 6/02/Visit-2026-1-klein-b.jpg
CATEGORIES:Märkte &amp; Feste
LOCATION:Markt- und Kirchplatz\, Marktplatz\, Laubach\, Deutschland
GEO:50.54235;8.99029
X-APPLE-STRUCTURED-LOCATION;VALUE=URI;X-ADDRESS=Marktplatz\, Laubach\, Deut
 schland;X-APPLE-RADIUS=100;X-TITLE=Markt- und Kirchplatz:geo:50.54235,8.99
 029
END:VEVENT
END:VCALENDAR