BEGIN:VCALENDAR
VERSION:2.0
PRODID:-//wp-events-plugin.com//7.2.1//EN
TZID:Europe/Berlin
X-WR-TIMEZONE:Europe/Berlin
BEGIN:VEVENT
UID:942@laubach-online.de
DTSTART:20241226T090000Z
DTEND:20241226T130000Z
DTSTAMP:20231120T093804Z
URL:https://laubach-online.de/events/laubacher-wochenmarkt-mit-herz-2024-1
 2-26/
SUMMARY:Laubacher Wochenmarkt "mit Herz"
DESCRIPTION:Laubacher Wochenmarkt „mit Herz“\n\nDer Laubacher Wochenmar
 kt bietet immer am Donnerstagvormittag die Gelegenheit sich mit frischem w
 ie Obst und Gemüse\, Fisch\, Käse\, Geflügel und einige regionale Produ
 kte einzudecken. Die gut angenommene Marktküche bietet an jedem Markttag 
 einen Mittagstisch an\, der von der ortsansässigen Gastronomie beliefert 
 wird. Durch die Marktküche ist ein Markttag in Laubach eine gesellige Abw
 echslung.
ATTACH;FMTTYPE=image/jpeg:https://laubach-online.de/wp-content/uploads/202
 1/01/wochenmarkt-laubach.jpg
CATEGORIES:Wochenmarkt
LOCATION:Kirchplatz\, Kirchplatz\, Laubach\, Deutschland
GEO:50.542791;8.990438
X-APPLE-STRUCTURED-LOCATION;VALUE=URI;X-ADDRESS=Kirchplatz\, Laubach\, Deut
 schland;X-APPLE-RADIUS=100;X-TITLE=Kirchplatz:geo:50.542791,8.990438
END:VEVENT
END:VCALENDAR