BEGIN:VCALENDAR
VERSION:2.0
PRODID:-//wp-events-plugin.com//7.2.1//EN
TZID:Europe/Berlin
X-WR-TIMEZONE:Europe/Berlin
BEGIN:VEVENT
UID:1482@laubach-online.de
DTSTART:20260130T180000Z
DTEND:20260130T230000Z
DTSTAMP:20260126T120926Z
URL:https://laubach-online.de/events/lauter-spiele-nacht/
SUMMARY:Lauter Spiele-Nacht
DESCRIPTION:Kein ewiges Spielanleitungen lesen mehr!\n\nLernt neue Spiele u
 nd Regeln einfach durchs Spielen.\nFindet neue Mit- oder Gegenspieler.\n\n
 Wir bieten eine große Sammlung von Spielen aller Art an.\nSpielwünsche k
 önnt ihr uns gerne vorher mitteilen.
ATTACH;FMTTYPE=image/jpeg:https://laubach-online.de/wp-content/uploads/202
 6/01/1000148007.jpg
LOCATION:Ev. Gemeindehaus Lauter\, Lautertalstraße 38\, Laubach\, 35321\, 
 Deutschland
GEO:50.569535;8.965429
X-APPLE-STRUCTURED-LOCATION;VALUE=URI;X-ADDRESS=Lautertalstraße 38\, Lauba
 ch\, 35321\, Deutschland;X-APPLE-RADIUS=100;X-TITLE=Ev. Gemeindehaus Laute
 r:geo:50.569535,8.965429
END:VEVENT
END:VCALENDAR