BEGIN:VCALENDAR
VERSION:2.0
PRODID:-//wp-events-plugin.com//7.2.1//EN
TZID:Europe/Berlin
X-WR-TIMEZONE:Europe/Berlin
BEGIN:VEVENT
UID:1056@laubach-online.de
DTSTART:20241023T190000Z
DTEND:20241023T213000Z
DTSTAMP:20240911T145115Z
URL:https://laubach-online.de/events/leseland-giessen-susanne-froehlich-ge
 parkt/
SUMMARY:Leseland Gießen: Susanne Fröhlich: Geparkt
DESCRIPTION:Monika hat das große Los gezogen: Einen solventen Freund\, der
  nicht nur ziemlich verliebt\, sondern auch ganz schön großzügig ist. I
 mmerhin überlässt er ihr seine Finca auf Mallorca – und finanziert ihr
  einen entspannten Lebensunterhalt.\n\nDafür brauchte sie nichts weiter z
 u tun\, als in Deutschland Wohnung und Job zu kündigen\, um ganz für ihn
  da zu sein\, wenn er am Wochenende aus Frankfurt einfliegt. Ein perfektes
  Arrangement.\nJedenfalls war das bis vor vier Wochen so. Seitdem hat sie 
 nichts mehr von ihrem Freund gehört. Also fast nichts. Denn da ist ja noc
 h dieser Brief von seinem Anwalt\, in dem steht\, dass Monika die Finca pr
 onto zu verlassen habe. Wohin sie gehen soll und wovon sie leben wird – 
 davon steht da nichts. Und auch nicht\, warum sie so plötzlich von der Pr
 inzessin zur Obdachlosen degradiert wurde. Aber sie wird es herausfinden. 
 Und auch\, dass Mallorca noch ganz anders kann\, als es im Urlaubsprospekt
  steht.\n\nSusanne Fröhlich ist eine der bekanntesten Autorinnen Deutschl
 ands. Die Schriftstellerin und Journalistin arbeitet außerdem als Moderat
 orin\, seit 2005 etwa für die MDR-Literatursendung Fröhlich lesen. Sowoh
 l ihre Sachbücher als auch ihre Romane wurden alle zu Bestsellern. Susann
 e Fröhlich lebt in der Nähe von Frankfurt am Main.\n\nKarten sind im Tou
 rismusbüro in der Bahnhofstraße 1 erhältlich\n\nFoto: Gaby Gerster
ATTACH;FMTTYPE=image/jpeg:https://laubach-online.de/wp-content/uploads/202
 4/09/Froehlich-scaled.jpg
CATEGORIES:Lesung
LOCATION:Rathaussaal\, Friedrichstraße 11\, Laubach\, 35321\, Deutschland
GEO:50.540895;8.991633
X-APPLE-STRUCTURED-LOCATION;VALUE=URI;X-ADDRESS=Friedrichstraße 11\, Lauba
 ch\, 35321\, Deutschland;X-APPLE-RADIUS=100;X-TITLE=Rathaussaal:geo:50.540
 895,8.991633
END:VEVENT
END:VCALENDAR